BEGIN:VCALENDAR
VERSION:2.0
PRODID:-//PSICOTERAPIA TRANSPERSONAL - ECPv5.16.2//NONSGML v1.0//EN
CALSCALE:GREGORIAN
METHOD:PUBLISH
X-WR-CALNAME:PSICOTERAPIA TRANSPERSONAL
X-ORIGINAL-URL:https://psicoterapiatranspersonal.es
X-WR-CALDESC:Eventos para PSICOTERAPIA TRANSPERSONAL
BEGIN:VTIMEZONE
TZID:Europe/Madrid
BEGIN:DAYLIGHT
TZOFFSETFROM:+0100
TZOFFSETTO:+0200
TZNAME:CEST
DTSTART:20160327T010000
END:DAYLIGHT
BEGIN:STANDARD
TZOFFSETFROM:+0200
TZOFFSETTO:+0100
TZNAME:CET
DTSTART:20161030T010000
END:STANDARD
END:VTIMEZONE
BEGIN:VEVENT
DTSTART;TZID=Europe/Madrid:20160806T120000
DTEND;TZID=Europe/Madrid:20160807T210000
DTSTAMP:20260423T234606
CREATED:20160725T115653Z
LAST-MODIFIED:20160725T115653Z
UID:100-1470484800-1470603600@psicoterapiatranspersonal.es
SUMMARY:ENEAGRAMA Y BIODANZA PARA MAMAS\, PAPAS Y NIÑOS
DESCRIPTION:El eneagrama y la biodanza son dos sistemas complementarios que nos ofrecen un camino de autoconocimiento por varias vias: el eneagrama con su teoría de la personalidad nos plantea como el Ser ha tenido que buscar una manera de estar en el mundo creando un “mecanismo de defensa” que es nuestra personalidad con el cual nos relacionamos con el mundo y los demás. El eneagrama consiste en identificar lo que realmente no somos para poder llegar a saber lo que somos. La Biodanza nos ofrece un sistema a través de la vivencia que desarrolla nuestros potenciales para poder ir más allá de esa personalidad que hemos adquirido con el fin de ponernos en contacto con el Ser que somos cada uno y que nos permite desarrollar todo nuestro potencial. \n  \nEn el taller abordaremos sobre todo la teoría de las triadas (tres centros que son el mental\, afectivo y sexual) para luego crear la vivencia para integrarlos a través de la música\, la danza y el grupo. \nPROGRAMA: \nSÁBADO 6:\n10:00 Llegada al hotel\n11:00 Introducción al Eneagrama (Origen\, triadas y eneatipos)\n13:00 Vivencia de Integración (Biodanza)\n14:30 Comida y tiempo libre\n17:00 a 20:00 Intensivo de Biodanza (integrando mi centro mental\, afectivo y sexual) \nDOMINGO 7:\n10:00 Caminata por la Naturaleza (visitando pozas y senderos de la zona)\n17:00 Cierre y despedida \nLa aportación es de 80 euros e incluye:\nCharla\, Vivencia\, Intensivo\, Hotel en habitación doble para 2 pax (solo alojamiento)\, y caminata por la Naturaleza.\nNo esta incluido el transporte ni las comidas (desayuno\, comida y cena)\nPrecio del menú en caso de comer en el hotel: 10 euros por persona. \n  \nImparte: Alicia Santos y Martín \n \nPara información y reservas llamar al 616.669.068.
URL:https://psicoterapiatranspersonal.es/evento/eneagrama-y-biodanza-para-mamas-papas-y-ninos/
END:VEVENT
END:VCALENDAR