BEGIN:VCALENDAR
VERSION:2.0
PRODID:-//PSICOTERAPIA TRANSPERSONAL - ECPv5.16.2//NONSGML v1.0//EN
CALSCALE:GREGORIAN
METHOD:PUBLISH
X-WR-CALNAME:PSICOTERAPIA TRANSPERSONAL
X-ORIGINAL-URL:https://psicoterapiatranspersonal.es
X-WR-CALDESC:Eventos para PSICOTERAPIA TRANSPERSONAL
BEGIN:VTIMEZONE
TZID:Europe/Madrid
BEGIN:DAYLIGHT
TZOFFSETFROM:+0100
TZOFFSETTO:+0200
TZNAME:CEST
DTSTART:20160327T010000
END:DAYLIGHT
BEGIN:STANDARD
TZOFFSETFROM:+0200
TZOFFSETTO:+0100
TZNAME:CET
DTSTART:20161030T010000
END:STANDARD
END:VTIMEZONE
BEGIN:VEVENT
DTSTART;TZID=Europe/Madrid:20160723T120000
DTEND;TZID=Europe/Madrid:20160723T220000
DTSTAMP:20260423T234401
CREATED:20160725T114824Z
LAST-MODIFIED:20160725T115323Z
UID:95-1469275200-1469311200@psicoterapiatranspersonal.es
SUMMARY:MATERNIDAD CONSCIENTE
DESCRIPTION: sábado 23 junio\n  \n(Recomendable con la pareja) \n  \n\nAbrirse a la vida: la entrega\, la fuerza y el coraje:\n\n  \nLa mujer madre\, canal entre el cielo y la tierra \nEl aspecto emocional durante el tercer trimestre de embarazo \n  \n\nAnatomía y fisiología: Cambios físicos y emocionales\n\n\nConocer y amar tu pelvis.\n\n\nFisiología del parto y nacimiento: el parto\, La importancia de conectar con el bebé\n\n\nParticipación del padre: ¿Cómo puede colaborar el padre?\n\n\nPreparación de series de asanas y calentamientos\n\n\nPranayama y respiración\n\n\nRelajación\, visualización\, meditación\n\n\nMolestias más frecuentes y ayudas naturales.\n\n\nMasajes\n\n\nLa ayuda del sonido y la vibración para el parto (canto prenatal)\n\n\nTrabajo con pelotas\n\n\nEl parto: síntomas del parto.\n\n\nVivir la dilatación y los pujos\n\n\nHerramientas que potencian una experiencia positiva del pato: Hipnoparto y circulo de mujeres.\n\n\nNacimiento respetuoso\, importancia del piel con piel.\n\n\nPreparación para la lactancia.\n\n  \nCuarto taller: fecha sin definir aun \nPosparto y lactancia: \n  \n\nNace un bebé\, nace una mdre nace un padre.\n\n\nImportancia del contacto\n\n\nImportancia de la alimentación: Lactancia materna.\n\n\nMasaje infantil.\n\n\nAnatomía y fisiología en el posparto: necesidades de la mujer.\n\n\nRecuperación del suelo pélvico y abdominal\, dependiendo del tipo de parto ( vaginal o con Cesárea).\n\n\nCambios emocionales y como adaptarse a ellos.\n\n\nRecursos para evitar o mejorar la depresión posparto.\n\n\nEvolución y reajuste de la relación de pareja.\n\n\nComo adaptarse a la llegada deun nuevo miembro a la unidad familiar.\n\n\nSerie de asanas con el bebé.\n\nImparte:  \nCarmen María Pons Salvador
URL:https://psicoterapiatranspersonal.es/evento/maternidad-consciente/
LOCATION:ESCUELA DE MADRES\, Bailen nº 4 pta. 2\, Valencia\, Valencia\, 46007\, España
ATTACH;FMTTYPE=image/jpeg:https://psicoterapiatranspersonal.es/wp-content/uploads/2016/07/ESCUELA-DE-MADRES-VALENCIA.jpg
END:VEVENT
END:VCALENDAR